BEGIN:VCALENDAR
VERSION:2.0
PRODID:-//pretalx//2026.asiabsdcon.org//ENSUSJ
BEGIN:VTIMEZONE
TZID:CST
BEGIN:STANDARD
DTSTART:20000101T000000
RRULE:FREQ=YEARLY;BYMONTH=1
TZNAME:CST
TZOFFSETFROM:+0800
TZOFFSETTO:+0800
END:STANDARD
END:VTIMEZONE
BEGIN:VEVENT
UID:pretalx-entry-ENSUSJ@2026.asiabsdcon.org
DTSTART;TZID=CST:20260319T093000
DTEND;TZID=CST:20260319T170000
DESCRIPTION:FreeBSD Developer Summit is an invited-only event for FreeBSD p
 roject members.  For more details\, see https://wiki.FreeBSD.org/DevSummit
 /202603
DTSTAMP:20260421T110029Z
LOCATION:Room C
SUMMARY:FreeBSD DevSummit 1st Day - 
URL:https://2026.asiabsdcon.org/entry/talk/ENSUSJ/
END:VEVENT
END:VCALENDAR
