BEGIN:VCALENDAR
VERSION:2.0
PRODID:-//pretalx//2026.asiabsdcon.org//EB8MPX
BEGIN:VTIMEZONE
TZID:CST
BEGIN:STANDARD
DTSTART:20000101T000000
RRULE:FREQ=YEARLY;BYMONTH=1
TZNAME:CST
TZOFFSETFROM:+0800
TZOFFSETTO:+0800
END:STANDARD
END:VTIMEZONE
BEGIN:VEVENT
UID:pretalx-entry-EB8MPX@2026.asiabsdcon.org
DTSTART;TZID=CST:20260320T093000
DTEND;TZID=CST:20260320T170000
DESCRIPTION:FreeBSD Developer Summit is an invited-only event for FreeBSD p
 roject members.  For more details\, see https://wiki.FreeBSD.org/DevSummit
 /202603
DTSTAMP:20260419T153433Z
LOCATION:Room C
SUMMARY:FreeBSD DevSummit 2nd Day - 
URL:https://2026.asiabsdcon.org/entry/talk/EB8MPX/
END:VEVENT
END:VCALENDAR
